BEGIN:VCALENDAR
VERSION:2.0
PRODID:-//Schwesternhaus - ECPv6.3.7//NONSGML v1.0//EN
CALSCALE:GREGORIAN
METHOD:PUBLISH
X-ORIGINAL-URL:https://schwesternhaus.de
X-WR-CALDESC:Veranstaltungen für Schwesternhaus
REFRESH-INTERVAL;VALUE=DURATION:PT1H
X-Robots-Tag:noindex
X-PUBLISHED-TTL:PT1H
BEGIN:VTIMEZONE
TZID:Europe/Berlin
BEGIN:DAYLIGHT
TZOFFSETFROM:+0100
TZOFFSETTO:+0200
TZNAME:CEST
DTSTART:20240331T010000
END:DAYLIGHT
BEGIN:STANDARD
TZOFFSETFROM:+0200
TZOFFSETTO:+0100
TZNAME:CET
DTSTART:20241027T010000
END:STANDARD
END:VTIMEZONE
BEGIN:VEVENT
DTSTART;VALUE=DATE:20241019
DTEND;VALUE=DATE:20241020
DTSTAMP:20260424T085210
CREATED:20240419T145414Z
LAST-MODIFIED:20240516T204201Z
UID:9400-1729296000-1729382399@schwesternhaus.de
SUMMARY:Externe Veranstaltung
DESCRIPTION:Externe Party
URL:https://schwesternhaus.de/veranstaltung/externe-veranstaltung-7/2024-10-19/
LOCATION:Kapelle\, Schwesternhausstr. 10\, Hannover\, Niedersachsen\, 30173\, Deutschland
END:VEVENT
BEGIN:VEVENT
DTSTART;VALUE=DATE:20240914
DTEND;VALUE=DATE:20240915
DTSTAMP:20260424T085210
CREATED:20240419T145414Z
LAST-MODIFIED:20240516T204200Z
UID:9399-1726272000-1726358399@schwesternhaus.de
SUMMARY:Externe Veranstaltung
DESCRIPTION:Externe Party
URL:https://schwesternhaus.de/veranstaltung/externe-veranstaltung-7/2024-09-14/
LOCATION:Kapelle\, Schwesternhausstr. 10\, Hannover\, Niedersachsen\, 30173\, Deutschland
END:VEVENT
BEGIN:VEVENT
DTSTART;VALUE=DATE:20240706
DTEND;VALUE=DATE:20240707
DTSTAMP:20260424T085210
CREATED:20240419T145414Z
LAST-MODIFIED:20240516T204200Z
UID:9396-1720224000-1720310399@schwesternhaus.de
SUMMARY:Externe Veranstaltung
DESCRIPTION:Externe Party
URL:https://schwesternhaus.de/veranstaltung/externe-veranstaltung-7/2024-07-06/
LOCATION:Kapelle\, Schwesternhausstr. 10\, Hannover\, Niedersachsen\, 30173\, Deutschland
END:VEVENT
END:VCALENDAR