BEGIN:VCALENDAR
VERSION:2.0
PRODID:-//Schwesternhaus - ECPv6.3.7//NONSGML v1.0//EN
CALSCALE:GREGORIAN
METHOD:PUBLISH
X-ORIGINAL-URL:https://schwesternhaus.de
X-WR-CALDESC:Veranstaltungen für Schwesternhaus
REFRESH-INTERVAL;VALUE=DURATION:PT1H
X-Robots-Tag:noindex
X-PUBLISHED-TTL:PT1H
BEGIN:VTIMEZONE
TZID:Europe/Berlin
BEGIN:DAYLIGHT
TZOFFSETFROM:+0100
TZOFFSETTO:+0200
TZNAME:CEST
DTSTART:20210328T010000
END:DAYLIGHT
BEGIN:STANDARD
TZOFFSETFROM:+0200
TZOFFSETTO:+0100
TZNAME:CET
DTSTART:20211031T010000
END:STANDARD
END:VTIMEZONE
BEGIN:VEVENT
DTSTART;TZID=Europe/Berlin:20211123T080000
DTEND;TZID=Europe/Berlin:20211123T170000
DTSTAMP:20260420T011653
CREATED:20211123T211702Z
LAST-MODIFIED:20211123T211702Z
UID:6641-1637654400-1637686800@schwesternhaus.de
SUMMARY:Paper
DESCRIPTION:Paper
URL:https://schwesternhaus.de/veranstaltung/paper-6/2021-11-23/
LOCATION:Niedersachsen
END:VEVENT
END:VCALENDAR